BEGIN:VCALENDAR
VERSION:2.0
PRODID:-//Nordens Ljus - ECPv6.15.20//NONSGML v1.0//EN
CALSCALE:GREGORIAN
METHOD:PUBLISH
X-WR-CALNAME:Nordens Ljus
X-ORIGINAL-URL:https://www.nordensljus.se
X-WR-CALDESC:Händelser för Nordens Ljus
REFRESH-INTERVAL;VALUE=DURATION:PT1H
X-Robots-Tag:noindex
X-PUBLISHED-TTL:PT1H
BEGIN:VTIMEZONE
TZID:Europe/Stockholm
BEGIN:DAYLIGHT
TZOFFSETFROM:+0100
TZOFFSETTO:+0200
TZNAME:CEST
DTSTART:20250330T010000
END:DAYLIGHT
BEGIN:STANDARD
TZOFFSETFROM:+0200
TZOFFSETTO:+0100
TZNAME:CET
DTSTART:20251026T010000
END:STANDARD
BEGIN:DAYLIGHT
TZOFFSETFROM:+0100
TZOFFSETTO:+0200
TZNAME:CEST
DTSTART:20260329T010000
END:DAYLIGHT
BEGIN:STANDARD
TZOFFSETFROM:+0200
TZOFFSETTO:+0100
TZNAME:CET
DTSTART:20261025T010000
END:STANDARD
BEGIN:DAYLIGHT
TZOFFSETFROM:+0100
TZOFFSETTO:+0200
TZNAME:CEST
DTSTART:20270328T010000
END:DAYLIGHT
BEGIN:STANDARD
TZOFFSETFROM:+0200
TZOFFSETTO:+0100
TZNAME:CET
DTSTART:20271031T010000
END:STANDARD
END:VTIMEZONE
BEGIN:VEVENT
DTSTART;TZID=Europe/Stockholm:20260428T173000
DTEND;TZID=Europe/Stockholm:20260428T203000
DTSTAMP:20260423T101016
CREATED:20260416T153434Z
LAST-MODIFIED:20260417T120834Z
UID:27279-1777397400-1777408200@www.nordensljus.se
SUMMARY:Grynet Molvig och Tom Alandh i Samtal på Ljuset 28 april
DESCRIPTION:Grynet Molvig\n				\n			\n				\n			\n				\n				Tom Aland\n				\n			\n				\n			\n				\n				Grynet och Povel Ramel\n				\n		\n\nGrynet Molvig. En enastående sjuttioårig karriär som fortfarande pågår. Ett  spännande liv också utanför scenen. Revyerna med Povel Ramel. Hasse & Tage. Otaliga filmer\, skivor\, scenshower parallellt med en framgångsrik skådespelarkarriär. Om allt detta får vi höra. \nAnmälan senast 20 april till pia.nordensljus@gmail.com Obs! Endast för medlemmar och medföljande gäst (i mån av plats). \nMeddela i anmälan om du vill ha  kyckling- eller Skagenwrap. \nBekräftelse: Hör av dig om du inte fått bekräftelse senast tre dagar efter anmälan.\nBetalning: I bekräftelsen finns en qr-kod som du öppnar i swishappen för betalning omedelbart. Din plats är inte säkrad förrän betalning är gjord. Tänk på att anmäla dig i god tid om du vill vara säker på plats.
URL:https://www.nordensljus.se/event/grynet-molvig-och-tom-alandh-i-samtal-pa-ljuset-28-april/
LOCATION:Kungsholmens Kulturhus\,\, St Göransgatan 92\, Stockholm
CATEGORIES:Samtal på Ljuset
END:VEVENT
END:VCALENDAR